BEGIN:VCALENDAR
VERSION:2.0
PRODID:-//HFZ Alumni - ECPv5.16.2.1//NONSGML v1.0//EN
CALSCALE:GREGORIAN
METHOD:PUBLISH
X-WR-CALNAME:HFZ Alumni
X-ORIGINAL-URL:https://hfz-alumni.ch
X-WR-CALDESC:Veranstaltungen für HFZ Alumni
BEGIN:VTIMEZONE
TZID:Europe/Paris
BEGIN:DAYLIGHT
TZOFFSETFROM:+0100
TZOFFSETTO:+0200
TZNAME:CEST
DTSTART:20210328T010000
END:DAYLIGHT
BEGIN:STANDARD
TZOFFSETFROM:+0200
TZOFFSETTO:+0100
TZNAME:CET
DTSTART:20211031T010000
END:STANDARD
END:VTIMEZONE
BEGIN:VEVENT
DTSTART;TZID=Europe/Paris:20210510T190000
DTEND;TZID=Europe/Paris:20210510T210000
DTSTAMP:20260423T181030
CREATED:20210128T123946Z
LAST-MODIFIED:20210427T193211Z
UID:1010-1620673200-1620680400@hfz-alumni.ch
SUMMARY:Belvoirpark Alumni ONLINE-GV 2021
DESCRIPTION:ONLINE-Generalversammlung 2021 – Belvoirpark Alumni \nDie besonderen Umstände haben uns dazu bewegt etwas Neues auszuprobieren. Wir werden unsere GV im Mai 2021 ONLINE durchführen. Ein Zusammenkommen wollen wir im September 2021 nachholen. Dazu zu einem späteren Zeitpunkt mehr. \nDie Online-GV findet über Zoom statt. Dafür braucht es weder ein Login\, noch eine Registration. Notwendig ist ein Computer oder Tablet (Handy ist eher ungeeignet) mit Kamera und Mikrofon\, sowie eine gute Internet-Verbindung. \nDen Link zur Teilnahme bekommst du 3-4 Tage im Voraus per Mail zugeschickt. Wer unsicher ist\, aber unbedingt dabei sein möchte\, kann sich im Voraus bei Raphael Tobler vom Vorstand melden und mit ihm einen Testlauf durchführen. Schreib ihm eine kurze Nachricht an: raphael@eduwo.ch \nProgramm\nab 19 Uhr Login der Teilnehmer via Link im Email\n19.15 Uhr Beginn virtuelles Programm\n19.30 Uhr Beginn der offiziellen GV (Dauer ca. 30min.)\n20. 00 Uhr Schlussprogramm\nab 20.30 Uhr Virtueller Ausklang und Verabschiedung \nTraktanden der Belvoirpark Alumni GV 2021\n– Eröffnung der Generalversammlung\n– Wahl Protokollführer und Stimmenzähler\n– Rechenschaftslegung des Vorstands: Jahresbericht und Jahresrechnung\n– Entlastung des Vorstands (Décharge erteilen)\n– Wahl vom Vorstand\n– Jahresprogramm 2021\n– Jahresbudget 2021\n– Verschiedenes: Informationen von allgemeinem Interesse und Wortmeldungen\n– Abschluss des offiziellen Teils der Versammlung \nKosten\nDie GV in dieser Form kostet dich nichts.\nWer sich aber anmeldet und unentschuldigt fern bleibt dem werden wir 30 Franken in Rechnung stellen. (und das werden wir auch machen) Somit wollen wir sicherstellen\, dass unsere Aufwände das Ganze zu organisieren auch wertgeschätzt werden. Abmeldungen somit bis 10 Tage vor der GV per Mail an info@belvoirpark-alumni.ch. Vielen Dank. \nDu kannst davon ausgehen\, dass wir versuchen den Event interessant und kurzweilig zu gestalten. Also sei dabei!🥳 Mehr verraten wir aber an dieser Stelle nicht..😁 \nWer nicht an der Online GV mitmachen kann und auf postalischem Weg abstimmen möchte\, melde sich bitte bis 18. April 2021 (Poststempel) per Brief mit seinen Daten (Name\, Adresse und Telefonnummer) an: Belvoirpark Alumni\, 8000 Zürich
URL:https://hfz-alumni.ch/event/belvoirpark-alumni-gv-2021/
ATTACH;FMTTYPE=image/jpeg:https://hfz-alumni.ch/wp-content/uploads/2020/01/IMG_0390-1-scaled.jpg
END:VEVENT
END:VCALENDAR