BEGIN:VCALENDAR
VERSION:2.0
PRODID:-//HFZ Alumni - ECPv5.16.2.1//NONSGML v1.0//EN
CALSCALE:GREGORIAN
METHOD:PUBLISH
X-WR-CALNAME:HFZ Alumni
X-ORIGINAL-URL:https://hfz-alumni.ch
X-WR-CALDESC:Veranstaltungen für HFZ Alumni
BEGIN:VTIMEZONE
TZID:Europe/Paris
BEGIN:DAYLIGHT
TZOFFSETFROM:+0100
TZOFFSETTO:+0200
TZNAME:CEST
DTSTART:20180325T010000
END:DAYLIGHT
BEGIN:STANDARD
TZOFFSETFROM:+0200
TZOFFSETTO:+0100
TZNAME:CET
DTSTART:20181028T010000
END:STANDARD
END:VTIMEZONE
BEGIN:VEVENT
DTSTART;TZID=Europe/Paris:20180708T130000
DTEND;TZID=Europe/Paris:20180708T223000
DTSTAMP:20260424T183243
CREATED:20180708T122103Z
LAST-MODIFIED:20191111T122255Z
UID:360-1531054800-1531089000@hfz-alumni.ch
SUMMARY:Besuch im Chedi Andermatt
DESCRIPTION:Der Kurztrip nach Andermatt ist auf 45 Plätze begrenzt. Der Selbstkostenanteil liegt bei nur 50 Franken pro Teilnehmer. Der Restbetrag wird von Belvoirpark Alumni\, dem Hotel The Chedi Andermatt und unseren Partnern (Baur au Lac Vins) übernommen. \nEingeladen sind alle Alumni und aktuelle Studenten der Hotelfachschule Belvoirpark. Begleitungen ohne Bezug zum Belvoirpark können aus Platzgründen leider nicht berücksichtigt werden.\nDie Anmeldung ist verbindlich. Abmeldungen bis zum 29. Juni 2018 sind kostenlos. Bei der Anmeldung gilt First-come – first-serve.
URL:https://hfz-alumni.ch/event/besuch-im-chedi-andermatt/
ATTACH;FMTTYPE=image/jpeg:https://hfz-alumni.ch/wp-content/uploads/2018/07/the-chedi-andermatt-hotel-in-andermatt.jpg
END:VEVENT
END:VCALENDAR