BEGIN:VCALENDAR
VERSION:2.0
PRODID:-//HFZ Alumni - ECPv5.16.2.1//NONSGML v1.0//EN
CALSCALE:GREGORIAN
METHOD:PUBLISH
X-WR-CALNAME:HFZ Alumni
X-ORIGINAL-URL:https://hfz-alumni.ch
X-WR-CALDESC:Veranstaltungen für HFZ Alumni
BEGIN:VTIMEZONE
TZID:Europe/Paris
BEGIN:DAYLIGHT
TZOFFSETFROM:+0100
TZOFFSETTO:+0200
TZNAME:CEST
DTSTART:20180325T010000
END:DAYLIGHT
BEGIN:STANDARD
TZOFFSETFROM:+0200
TZOFFSETTO:+0100
TZNAME:CET
DTSTART:20181028T010000
END:STANDARD
END:VTIMEZONE
BEGIN:VEVENT
DTSTART;TZID=Europe/Paris:20181223T161500
DTEND;TZID=Europe/Paris:20181223T210000
DTSTAMP:20260424T085003
CREATED:20181223T124224Z
LAST-MODIFIED:20191111T124618Z
UID:376-1545581700-1545598800@hfz-alumni.ch
SUMMARY:Eishockey Plausch-Match
DESCRIPTION:Die Eishockeysaison ist längst lanciert und es wird nun höchste Zeit\, dass auch wir wieder in’s Geschehen eingreifen. Die Löwen sind hungrig und ein ebenbürtiger Gegner ist gefunden. Ob Anfänger oder Fortgeschritten\, du bist herzlich willkommen. \nDetailsplan\nBelvoir Alumni Lions vs. HC Grappa\nKunsteisbahn Weihermatt\, 8902 Urdorf\nSonntag\, 23.12.18\nab 16.15 Uhr Eintreffen\n17.15 – 19.15 Uhr Plausch-Match\nab 19.30 Spaghettiplausch (mit Gegner) \nDer Event komplett kostet dich CHF 20.- (Bezahlung vor Ort) und die komplette Ausrüstung (CHF 30.-) kann vor Ort gemietet bzw. vorab über den Vorstand von Belvoirpark Alumni bestellt werden. \nDu kannst deine Anmeldung direkt hier über die Homepage tätigen und schon bist du dabei. \n*Eat*Sleep*Hockey*Repeat* – Wir freuen uns auf dein Kommen!
URL:https://hfz-alumni.ch/event/eishockey-plausch-match/
ATTACH;FMTTYPE=image/jpeg:https://hfz-alumni.ch/wp-content/uploads/2019/11/Eishockey_Alumni.jpg
END:VEVENT
END:VCALENDAR