BEGIN:VCALENDAR
VERSION:2.0
PRODID:-//HFZ Alumni - ECPv5.16.2.1//NONSGML v1.0//EN
CALSCALE:GREGORIAN
METHOD:PUBLISH
X-WR-CALNAME:HFZ Alumni
X-ORIGINAL-URL:https://hfz-alumni.ch
X-WR-CALDESC:Veranstaltungen für HFZ Alumni
BEGIN:VTIMEZONE
TZID:Europe/Paris
BEGIN:DAYLIGHT
TZOFFSETFROM:+0100
TZOFFSETTO:+0200
TZNAME:CEST
DTSTART:20190331T010000
END:DAYLIGHT
BEGIN:STANDARD
TZOFFSETFROM:+0200
TZOFFSETTO:+0100
TZNAME:CET
DTSTART:20191027T010000
END:STANDARD
END:VTIMEZONE
BEGIN:VEVENT
DTSTART;TZID=Europe/Paris:20190124T180000
DTEND;TZID=Europe/Paris:20190124T220000
DTSTAMP:20260424T070419
CREATED:20190124T124657Z
LAST-MODIFIED:20191111T124829Z
UID:380-1548352800-1548367200@hfz-alumni.ch
SUMMARY:Eisstockschiessen & Fondue
DESCRIPTION:YEAH!! EISSTOCKSCHIESSEN! \nSpiel\, Spass und Schokolade! \nLetzteres musst Du selber mitnehmen\, fürs andere sorgen wir. \nAm 24. Januar 2019 findet unseres alljährliche Eisstockschiessen statt. Nicht zu verwechseln mit Curling. *Same same\, but different*. Treffpunkt ab 17.30 Uhr direkt vor dem Restaurant. \nGemütlicher Konkurrenzkampf bei einem Gläschen Glühwein. Nichtspieler sind gerne gesehen als Cheerleader (Pompons auf Wunsch gestellt) oder Wein-Nachschenker ;-) \nNachdem so viele Kalorien verbrannt wurden\, müssen wir die entsprechend ersetzen. Deshalb kann man im Anschluss während der Rekapitulation der Spiele ab 20 Uhr es feins Fondü gniesse. Die Stöcke dann aber bitte nur in den Käse tunken und nicht werfen! \nWir freuen uns natürlich immer über Neuzugänge. The more the merrier. \nKostenbeitrag für Mitglieder ist 20 Franken ohne Fondue.\nKostenbeitrag für Nicht-Mitglieder ist 38 Franken ohne Fondue.\n(à la carte Bestellung und Zahlung vor Ort) \nBis dann – wir freuen uns auf Dich!
URL:https://hfz-alumni.ch/event/eisstockschiessen-fondue/
ATTACH;FMTTYPE=image/jpeg:https://hfz-alumni.ch/wp-content/uploads/2019/01/Eisstockschiessen.jpg
END:VEVENT
END:VCALENDAR