BEGIN:VCALENDAR
VERSION:2.0
PRODID:-//HFZ Alumni - ECPv5.16.2.1//NONSGML v1.0//EN
CALSCALE:GREGORIAN
METHOD:PUBLISH
X-WR-CALNAME:HFZ Alumni
X-ORIGINAL-URL:https://hfz-alumni.ch
X-WR-CALDESC:Veranstaltungen für HFZ Alumni
BEGIN:VTIMEZONE
TZID:Europe/Paris
BEGIN:DAYLIGHT
TZOFFSETFROM:+0100
TZOFFSETTO:+0200
TZNAME:CEST
DTSTART:20190331T010000
END:DAYLIGHT
BEGIN:STANDARD
TZOFFSETFROM:+0200
TZOFFSETTO:+0100
TZNAME:CET
DTSTART:20191027T010000
END:STANDARD
END:VTIMEZONE
BEGIN:VEVENT
DTSTART;TZID=Europe/Paris:20190311T180000
DTEND;TZID=Europe/Paris:20190311T220000
DTSTAMP:20260424T031701
CREATED:20190311T125812Z
LAST-MODIFIED:20191111T125949Z
UID:390-1552327200-1552341600@hfz-alumni.ch
SUMMARY:Generalversammlung Hotel Placid\, Zürich
DESCRIPTION:Das Placid Hotel Zurich: ein Ort für Kosmopoliten\, für Geschäftsreisende\, für Geniesser. Knotenpunkt für unzählige Fäden\, die hier zusammenlaufen und sich wieder trennen. Urbaner Lifestyle\, modernes Design\, echte Begegnungen. Tief verwurzelt im Quartier Altstetten – und doch offen für die Welt. \nBelvoirpark Alumni Generalversammlung 2019\nim 4* Design-/Businesshotel Placid\, Zürich\nzu Gast bei Martin Heyne\, Direktor & Alumni \nProgramm\n18.00 Uhr Welcome-Apéro und Rundgang durch die Lokalität\n19.00 Uhr Generalversammlung\n19.30 Uhr Gemeinsames Abendessen \nKosten\n40 Franken pro Person inklusive Apéro\, Essen und Getränke (Mineralwasser\, Softdrinks\, Kaffee\, Bier und Wein) Die Differenz wird von Alumni bezahlt. Bezahlung direkt vor Ort. \nTraktanden der Belvoirpark Alumni GV 2019\n– Eröffnung der Generalversammlung\n– Wahl Protokollführer und Stimmenzähler\n– Rechenschaftslegung des Vorstands: Jahresbericht und Jahresrechnung\n– Entlastung des Vorstands (Décharge erteilen)\n– Jahresprogramm 2019\n– Jahresbudget 2019\n– Verschiedenes: Informationen von allgemeinem Interesse und Wortmeldungen\n– Abschluss des offiziellen Teils der Versammlung \nLokalität\nPlacid Hotel Zurich\nBuckhauserstrasse 36\n8048 Zürich\nTram Nr. 2 in Richtung „Farbhof“. Von der Tramhaltestelle „Kappeli“ in 2min. zu Fuss.\nhttps://goo.gl/maps/9R6rG4DSYHr\nParkplätze sind im Parkhaus vorhanden. (4h à 8 Franken) \nOffizielle Anmeldung bitte über www.belvoirpark-alumni.ch\nWir freuen uns auf einen gediegenen Abend in modernem Ambiente!
URL:https://hfz-alumni.ch/event/generalversammlung-hotel-placid-zuerich/
ATTACH;FMTTYPE=image/jpeg:https://hfz-alumni.ch/wp-content/uploads/2019/11/Placid_Z__rich_Corner-5.jpg
END:VEVENT
END:VCALENDAR