BEGIN:VCALENDAR
VERSION:2.0
PRODID:-//HFZ Alumni - ECPv5.16.2.1//NONSGML v1.0//EN
CALSCALE:GREGORIAN
METHOD:PUBLISH
X-WR-CALNAME:HFZ Alumni
X-ORIGINAL-URL:https://hfz-alumni.ch
X-WR-CALDESC:Veranstaltungen für HFZ Alumni
BEGIN:VTIMEZONE
TZID:Europe/Paris
BEGIN:DAYLIGHT
TZOFFSETFROM:+0100
TZOFFSETTO:+0200
TZNAME:CEST
DTSTART:20200329T010000
END:DAYLIGHT
BEGIN:STANDARD
TZOFFSETFROM:+0200
TZOFFSETTO:+0100
TZNAME:CET
DTSTART:20201025T010000
END:STANDARD
END:VTIMEZONE
BEGIN:VEVENT
DTSTART;TZID=Europe/Paris:20201126T173000
DTEND;TZID=Europe/Paris:20201126T203000
DTSTAMP:20260423T164256
CREATED:20200904T101926Z
LAST-MODIFIED:20201111T192144Z
UID:881-1606411800-1606422600@hfz-alumni.ch
SUMMARY:Abgesagt - Glühmost im Park powered by Mosterei Möhl
DESCRIPTION:In Rücksprache mit der Schule haben wir uns dazu entschieden\, den Event im BelvoirPark dieses Jahr nicht durchzuführen. Wir überlegen uns aber den Event im neuen Jahr nachzuholen\, falls die Bedingungen besser aussehen. Wir halten euch auf dem Laufenden. \nDie Ehemaligen (Belvoirpark Alumni) laden die aktuellen Studenten der Hotelfachschule Belvoirpark mit freundlicher Unterstützung der Thurgauer Mosterei Möhl auf einen Glühmost & einen weihnachtlichen Snack ein. \nBist du aktueller Student oder hast du die Prüfungen bereits bestanden und darfst dich „Alumni“ nennen? \nDann bist du am Donnerstag\, 26. November 2020 ab 17.30 Uhr herzlich eingeladen. Wir treffen uns unten beim Schulungsgebäude im Park. \nHast du das Wort „Alumni“ hier und jetzt das erste Mal gehört oder gelesen. Mach dir keinen Kopf.😉 Um 18 Uhr wird ein Alumni kurz etwas zu Belvoirpark Alumni erzählen. Wer wir sind und was unter dem Jahr so alles läuft\, wo du künftig teilnehmen kannst – und das bereits als Student! \nDu musst dich nicht anmelden. Sei gegen 18 Uhr unten im Park und vergiss nicht deinen Banknachbarn mitzunehmen\, denn auch er wird einmal ein Alumni sein!😁 Später kommen und früher gehen\, ist selbstverständlich auch erlaubt. Ungezwungen und locker sind unsere Events\, das soll auch an diesem Tag so sein. Der Anlass ist für alle kostenlos. \nWir freuen uns auf euch aktuelle Studenten und natürlich über zahlreiche Alumni aller Jahrgänge! Bis bald auf einen Drink und Schwatz – im Belvoirpark!
URL:https://hfz-alumni.ch/event/gluehmost-im-park/
LOCATION:Belvoirpark (unterhalb Hotelfachschule)\, Seestrasse 141\, 8002 Zürich\, Schweiz
ATTACH;FMTTYPE=image/jpeg:https://hfz-alumni.ch/wp-content/uploads/2020/09/FB_IMG_1599215040814.jpg
END:VEVENT
END:VCALENDAR