BEGIN:VCALENDAR
VERSION:2.0
PRODID:-//HFZ Alumni - ECPv5.16.2.1//NONSGML v1.0//EN
CALSCALE:GREGORIAN
METHOD:PUBLISH
X-WR-CALNAME:HFZ Alumni
X-ORIGINAL-URL:https://hfz-alumni.ch
X-WR-CALDESC:Veranstaltungen für HFZ Alumni
BEGIN:VTIMEZONE
TZID:Europe/Paris
BEGIN:DAYLIGHT
TZOFFSETFROM:+0100
TZOFFSETTO:+0200
TZNAME:CEST
DTSTART:20190331T010000
END:DAYLIGHT
BEGIN:STANDARD
TZOFFSETFROM:+0200
TZOFFSETTO:+0100
TZNAME:CET
DTSTART:20191027T010000
END:STANDARD
END:VTIMEZONE
BEGIN:VEVENT
DTSTART;TZID=Europe/Paris:20191114T173000
DTEND;TZID=Europe/Paris:20191114T203000
DTSTAMP:20260423T163204
CREATED:20191111T090124Z
LAST-MODIFIED:20191111T091022Z
UID:302-1573752600-1573763400@hfz-alumni.ch
SUMMARY:Glühwein im Park
DESCRIPTION:Die Ehemaligen (Belvoirpark Alumni) laden die aktuellen Studenten der Hotelfachschule Belvoirpark auf einen Glühwein & einen weihnachtlichen Snack ein. Bist du aktueller Student oder hast du die Prüfungen bereits bestanden und darfst dich „Alumni“ nennen? \nDann bist du am Donnerstag\, 14. November 2019 ab 17.30 Uhr herzlich eingeladen. Wir treffen uns unten beim Schulungsgebäude im Park. Hast du das Wort „Alumni“ hier und jetzt das erste Mal gehört oder gelesen. Mach dir keinen Kopf.;) Um 18 Uhr wird ein Alumni kurz etwas zu Belvoirpark Alumni erzählen. Wer wir sind und was unter dem Jahr so alles läuft\, wo du künftig teilnehmen kannst – und das bereits als Student! \nDu musst dich nicht anmelden. Sei gegen 18 Uhr unten im Park und vergiss nicht deinen Banknachbarn mitzunehmen\, denn auch er wird einmal ein Alumni sein!;) Später kommen und früher gehen\, ist selbstverständlich auch erlaubt. Ungezwungen und locker sind unsere Events\, das soll auch an diesem Tag so sein. Der Anlass ist für alle kostenlos. \nWir freuen uns auf euch aktuelle Studenten und natürlich über zahlreiche Alumni aller Jahrgänge! Bis bald auf einen Drink und Schwatz – im Belvoirpark!
URL:https://hfz-alumni.ch/event/gluehwein-im-park/
LOCATION:Belvoirpark (unterhalb Hotelfachschule)\, Seestrasse 141\, 8002 Zürich\, Schweiz
ATTACH;FMTTYPE=image/jpeg:https://hfz-alumni.ch/wp-content/uploads/2019/11/gluehwein.jpg
END:VEVENT
END:VCALENDAR