BEGIN:VCALENDAR
VERSION:2.0
PRODID:-//HFZ Alumni - ECPv5.16.2.1//NONSGML v1.0//EN
CALSCALE:GREGORIAN
METHOD:PUBLISH
X-WR-CALNAME:HFZ Alumni
X-ORIGINAL-URL:https://hfz-alumni.ch
X-WR-CALDESC:Veranstaltungen für HFZ Alumni
BEGIN:VTIMEZONE
TZID:Europe/Paris
BEGIN:DAYLIGHT
TZOFFSETFROM:+0100
TZOFFSETTO:+0200
TZNAME:CEST
DTSTART:20190331T010000
END:DAYLIGHT
BEGIN:STANDARD
TZOFFSETFROM:+0200
TZOFFSETTO:+0100
TZNAME:CET
DTSTART:20191027T010000
END:STANDARD
END:VTIMEZONE
BEGIN:VEVENT
DTSTART;TZID=Europe/Paris:20190820T160000
DTEND;TZID=Europe/Paris:20190820T200000
DTSTAMP:20260423T215452
CREATED:20190820T154212Z
LAST-MODIFIED:20191111T154328Z
UID:447-1566316800-1566331200@hfz-alumni.ch
SUMMARY:Homecoming Day 2019
DESCRIPTION:Offizieller Beginn des Events ist um 16 Uhr. Welcome-Apéro ab 15.15 Uhr. \nEs erwarten dich spannende Gastreferate zu aktuellen Themen aus der Gastronomie & Hotellerie mit einer Diskussionsrunde. Anschliessend ab ca. 18.30 Uhr bleibt genügend Zeit für Smalltalk\, Austausch und Netzwerkpflege während dem Standing-Dinner. Wer will\, lässt danach den Abend noch bei einem Cocktail an der Bar ausklingen. \nUnsere Gäste/Referenten stehen fest. Die Moderation übernimmt Christian Pfund. \nPatrick Schindler\, Gastro Pop Up – Macher\nAndy Schwarzenbach\, Mitgründer von Hitzberger\nTiziano Marinello\, der stadtbekannte Gmüesler \nDank grosszügigem Sponsoring durch die Hotelfachschule Belvoirpark\, namentlich durch Herrn Paul Nussbaumer\, und dank weiteren Partnern können wir diesen Event kostenlos anbieten. \nWir freuen uns auf deine Anmeldung. (Begleitpersonen/Nicht-Mitglieder bitte direkt mit deren Namen anmelden) \nEingeladen sind Mitglieder sowie Nicht-Mitglieder\, aktuelle Studenten und ebenfalls heissen wir Begleitpersonen herzlich willkommen. Etwas später kommen oder früher gehen ist selbstverständlich möglich.
URL:https://hfz-alumni.ch/event/homecoming-day-2019/
ATTACH;FMTTYPE=image/jpeg:https://hfz-alumni.ch/wp-content/uploads/2018/08/belvoirpark_hotelfachschule.jpg
END:VEVENT
END:VCALENDAR