BEGIN:VCALENDAR
VERSION:2.0
PRODID:-//HFZ Alumni - ECPv5.16.2.1//NONSGML v1.0//EN
CALSCALE:GREGORIAN
METHOD:PUBLISH
X-WR-CALNAME:HFZ Alumni
X-ORIGINAL-URL:https://hfz-alumni.ch
X-WR-CALDESC:Veranstaltungen für HFZ Alumni
BEGIN:VTIMEZONE
TZID:Europe/Paris
BEGIN:DAYLIGHT
TZOFFSETFROM:+0100
TZOFFSETTO:+0200
TZNAME:CEST
DTSTART:20200329T010000
END:DAYLIGHT
BEGIN:STANDARD
TZOFFSETFROM:+0200
TZOFFSETTO:+0100
TZNAME:CET
DTSTART:20201025T010000
END:STANDARD
END:VTIMEZONE
BEGIN:VEVENT
DTSTART;TZID=Europe/Paris:20201009T173000
DTEND;TZID=Europe/Paris:20201009T230000
DTSTAMP:20260423T181859
CREATED:20191107T085826Z
LAST-MODIFIED:20201003T112711Z
UID:68-1602264600-1602284400@hfz-alumni.ch
SUMMARY:Neu angesetzt - REGA Besichtigung & BBQ im Mövenpick Hotel
DESCRIPTION:REGA – Blick hinter die Kulissen \nWir besuchen die Rega Basis und erfahren wie im Jahre 1952 durch den Pionier und Mediziner Rudolf Bucher und die Lebensrettungs-Gesellschaft alles seinen Anfang nahm. Im Anschluss daran gehen wir zusammen in’s Mövenpick Hotel Airport und lassen den Abend mit einem feinen BBQ ausklingen. Es gibt allerlei\, Salate\, Fleisch\, Würste und Burger (auch Vegi) zum selber zusammenstellen. \nProgramm\n17.30 Uhr Eintreffen bei der Rega (Anreise mit ÖV wird empfohlen)\n17.45 – 19.45 Führung durch die Rega\n19.45 – 20.15 Mit Tram/Bus zum Hotel Mövenpick\, Glattbrugg\n20.15 – 22.00 BBQ/Dinner und Networking im Hotel Mövenpick\, Glattbrugg\nab 22 Uhr Abschluss und Ausklang an der Bar (Selbstzahler)\nTransfer individuell zu organisieren\, Parkplätze beim Hotel vorhanden. (Selbstzahler) \nAnmeldung\nDie Kosten belaufen sich auf CHF 30 pro Teilnehmer. (Besichtigung & Dinner inkl. Getränke) Zahlung vor Ort. Tickets für ÖV sind selber zu bezahlen. \n  \n  \n 
URL:https://hfz-alumni.ch/event/rega-besichtigung-bbq-im-moevenpick-hotel/
LOCATION:Rega Center Kloten\, Bimenzältenstrasse 87\,\, 8058 Zürich Flughafen\, Schweiz
ATTACH;FMTTYPE=image/jpeg:https://hfz-alumni.ch/wp-content/uploads/2019/11/eurocopter-1147116_1920_rega_event.jpg
END:VEVENT
END:VCALENDAR