BEGIN:VCALENDAR
VERSION:2.0
PRODID:-//HFZ Alumni - ECPv5.16.2.1//NONSGML v1.0//EN
CALSCALE:GREGORIAN
METHOD:PUBLISH
X-WR-CALNAME:HFZ Alumni
X-ORIGINAL-URL:https://hfz-alumni.ch
X-WR-CALDESC:Veranstaltungen für HFZ Alumni
BEGIN:VTIMEZONE
TZID:Europe/Paris
BEGIN:DAYLIGHT
TZOFFSETFROM:+0100
TZOFFSETTO:+0200
TZNAME:CEST
DTSTART:20190331T010000
END:DAYLIGHT
BEGIN:STANDARD
TZOFFSETFROM:+0200
TZOFFSETTO:+0100
TZNAME:CET
DTSTART:20191027T010000
END:STANDARD
END:VTIMEZONE
BEGIN:VEVENT
DTSTART;TZID=Europe/Paris:20190427T160000
DTEND;TZID=Europe/Paris:20190427T190000
DTSTAMP:20260423T234556
CREATED:20190427T130657Z
LAST-MODIFIED:20191111T134931Z
UID:396-1556380800-1556391600@hfz-alumni.ch
SUMMARY:Stammtisch mit Führung - Schützengarten
DESCRIPTION:Sei dabei und erlebe die Brauerei Schützengarten hautnah. Auf dem Brauereigelände an der St. Jakob-Strasse in St.Gallen locken verschiedene Attraktionen zum Erleben\, Geniessen und Verweilen. \nSeverin Burger seit diesem Jahr bei der Brauerei dabei\, selbst Alumni der Hotelfachschule Belvoirpark\, wird für Dich vor Ort sein und Dir die Biervielfalt der Brauerei Schützengarten an einem für uns reservierten Stammtisch näherbringen. \nNöd Jufle aber trotzdem sofort über d’Homepage amälde! (zeitlich kannst Du kommen\, wie es Dir passt\, trotzdem sind wir Dir für eine Anmeldung dankbar)
URL:https://hfz-alumni.ch/event/stammtisch-mit-fuehrung-schuetzengarten/
ATTACH;FMTTYPE=image/jpeg:https://hfz-alumni.ch/wp-content/uploads/2019/04/S_VWeiss_Prozess_3C_V1.jpg
END:VEVENT
END:VCALENDAR